BEGIN:VCALENDAR
VERSION:2.0
PRODID:-//Dost Astrology - ECPv6.15.11//NONSGML v1.0//EN
CALSCALE:GREGORIAN
METHOD:PUBLISH
X-WR-CALNAME:Dost Astrology
X-ORIGINAL-URL:https://dost-astrology.com
X-WR-CALDESC:Eventos para Dost Astrology
REFRESH-INTERVAL;VALUE=DURATION:PT1H
X-Robots-Tag:noindex
X-PUBLISHED-TTL:PT1H
BEGIN:VTIMEZONE
TZID:America/New_York
BEGIN:DAYLIGHT
TZOFFSETFROM:-0500
TZOFFSETTO:-0400
TZNAME:EDT
DTSTART:20240310T070000
END:DAYLIGHT
BEGIN:STANDARD
TZOFFSETFROM:-0400
TZOFFSETTO:-0500
TZNAME:EST
DTSTART:20241103T060000
END:STANDARD
BEGIN:DAYLIGHT
TZOFFSETFROM:-0500
TZOFFSETTO:-0400
TZNAME:EDT
DTSTART:20250309T070000
END:DAYLIGHT
BEGIN:STANDARD
TZOFFSETFROM:-0400
TZOFFSETTO:-0500
TZNAME:EST
DTSTART:20251102T060000
END:STANDARD
BEGIN:DAYLIGHT
TZOFFSETFROM:-0500
TZOFFSETTO:-0400
TZNAME:EDT
DTSTART:20260308T070000
END:DAYLIGHT
BEGIN:STANDARD
TZOFFSETFROM:-0400
TZOFFSETTO:-0500
TZNAME:EST
DTSTART:20261101T060000
END:STANDARD
END:VTIMEZONE
BEGIN:VEVENT
DTSTART;VALUE=DATE:20251102
DTEND;VALUE=DATE:20251103
DTSTAMP:20260423T133548
CREATED:20251029T211235Z
LAST-MODIFIED:20251029T211235Z
UID:4047-1762041600-1762127999@dost-astrology.com
SUMMARY:Tulasi Vivah
DESCRIPTION:
URL:https://dost-astrology.com/evento/tulasi-vivah/
CATEGORIES:Ventanas de tiempo auspiciosas Védicas
END:VEVENT
BEGIN:VEVENT
DTSTART;VALUE=DATE:20251102
DTEND;VALUE=DATE:20251103
DTSTAMP:20260423T133548
CREATED:20251029T211305Z
LAST-MODIFIED:20251029T211305Z
UID:4049-1762041600-1762127999@dost-astrology.com
SUMMARY:Ravi Pradosha
DESCRIPTION:
URL:https://dost-astrology.com/evento/ravi-pradosha/
CATEGORIES:Ventanas de tiempo auspiciosas Védicas
END:VEVENT
END:VCALENDAR