BEGIN:VCALENDAR
VERSION:2.0
PRODID:-//Dost Astrology - ECPv6.15.11//NONSGML v1.0//EN
CALSCALE:GREGORIAN
METHOD:PUBLISH
X-WR-CALNAME:Dost Astrology
X-ORIGINAL-URL:https://dost-astrology.com
X-WR-CALDESC:Eventos para Dost Astrology
REFRESH-INTERVAL;VALUE=DURATION:PT1H
X-Robots-Tag:noindex
X-PUBLISHED-TTL:PT1H
BEGIN:VTIMEZONE
TZID:America/New_York
BEGIN:DAYLIGHT
TZOFFSETFROM:-0500
TZOFFSETTO:-0400
TZNAME:EDT
DTSTART:20250309T070000
END:DAYLIGHT
BEGIN:STANDARD
TZOFFSETFROM:-0400
TZOFFSETTO:-0500
TZNAME:EST
DTSTART:20251102T060000
END:STANDARD
BEGIN:DAYLIGHT
TZOFFSETFROM:-0500
TZOFFSETTO:-0400
TZNAME:EDT
DTSTART:20260308T070000
END:DAYLIGHT
BEGIN:STANDARD
TZOFFSETFROM:-0400
TZOFFSETTO:-0500
TZNAME:EST
DTSTART:20261101T060000
END:STANDARD
BEGIN:DAYLIGHT
TZOFFSETFROM:-0500
TZOFFSETTO:-0400
TZNAME:EDT
DTSTART:20270314T070000
END:DAYLIGHT
BEGIN:STANDARD
TZOFFSETFROM:-0400
TZOFFSETTO:-0500
TZNAME:EST
DTSTART:20271107T060000
END:STANDARD
END:VTIMEZONE
BEGIN:VEVENT
DTSTART;VALUE=DATE:20260214
DTEND;VALUE=DATE:20260215
DTSTAMP:20260423T075333
CREATED:20251031T150550Z
LAST-MODIFIED:20251031T150550Z
UID:4188-1771027200-1771113599@dost-astrology.com
SUMMARY:Shani Pradosha
DESCRIPTION:
URL:https://dost-astrology.com/evento/shani-pradosha/
CATEGORIES:Ventanas de tiempo auspiciosas Védicas
END:VEVENT
BEGIN:VEVENT
DTSTART;VALUE=DATE:20260215
DTEND;VALUE=DATE:20260216
DTSTAMP:20260423T075333
CREATED:20251031T150651Z
LAST-MODIFIED:20251031T150651Z
UID:4192-1771113600-1771199999@dost-astrology.com
SUMMARY:MAHA SHIVARATRI
DESCRIPTION:
URL:https://dost-astrology.com/evento/maha-shivaratri/
CATEGORIES:Ventanas de tiempo auspiciosas Védicas
END:VEVENT
BEGIN:VEVENT
DTSTART;VALUE=DATE:20260215
DTEND;VALUE=DATE:20260216
DTSTAMP:20260423T075333
CREATED:20251031T150720Z
LAST-MODIFIED:20251031T150720Z
UID:4194-1771113600-1771199999@dost-astrology.com
SUMMARY:Shivaratri
DESCRIPTION:
URL:https://dost-astrology.com/evento/shivaratri-4/
CATEGORIES:Ventanas de tiempo auspiciosas Védicas
END:VEVENT
BEGIN:VEVENT
DTSTART;VALUE=DATE:20260228
DTEND;VALUE=DATE:20260301
DTSTAMP:20260423T075333
CREATED:20251031T151029Z
LAST-MODIFIED:20251031T151029Z
UID:4204-1772236800-1772323199@dost-astrology.com
SUMMARY:Shani Pradosha
DESCRIPTION:
URL:https://dost-astrology.com/evento/shani-pradosha-2/
CATEGORIES:Ventanas de tiempo auspiciosas Védicas
END:VEVENT
END:VCALENDAR