BEGIN:VCALENDAR
VERSION:2.0
PRODID:-//Dost Astrology - ECPv6.15.11//NONSGML v1.0//EN
CALSCALE:GREGORIAN
METHOD:PUBLISH
X-ORIGINAL-URL:https://dost-astrology.com
X-WR-CALDESC:Eventos para Dost Astrology
REFRESH-INTERVAL;VALUE=DURATION:PT1H
X-Robots-Tag:noindex
X-PUBLISHED-TTL:PT1H
BEGIN:VTIMEZONE
TZID:America/New_York
BEGIN:DAYLIGHT
TZOFFSETFROM:-0500
TZOFFSETTO:-0400
TZNAME:EDT
DTSTART:20240310T070000
END:DAYLIGHT
BEGIN:STANDARD
TZOFFSETFROM:-0400
TZOFFSETTO:-0500
TZNAME:EST
DTSTART:20241103T060000
END:STANDARD
BEGIN:DAYLIGHT
TZOFFSETFROM:-0500
TZOFFSETTO:-0400
TZNAME:EDT
DTSTART:20250309T070000
END:DAYLIGHT
BEGIN:STANDARD
TZOFFSETFROM:-0400
TZOFFSETTO:-0500
TZNAME:EST
DTSTART:20251102T060000
END:STANDARD
BEGIN:DAYLIGHT
TZOFFSETFROM:-0500
TZOFFSETTO:-0400
TZNAME:EDT
DTSTART:20260308T070000
END:DAYLIGHT
BEGIN:STANDARD
TZOFFSETFROM:-0400
TZOFFSETTO:-0500
TZNAME:EST
DTSTART:20261101T060000
END:STANDARD
END:VTIMEZONE
BEGIN:VEVENT
DTSTART;VALUE=DATE:20251202
DTEND;VALUE=DATE:20251203
DTSTAMP:20260423T104649
CREATED:20251030T154125Z
LAST-MODIFIED:20251030T154125Z
UID:4083-1764633600-1764719999@dost-astrology.com
SUMMARY:Bhauma Pradosha
DESCRIPTION:
URL:https://dost-astrology.com/evento/bhauma-pradosha/
CATEGORIES:Ventanas de tiempo auspiciosas Védicas
END:VEVENT
BEGIN:VEVENT
DTSTART;VALUE=DATE:20251204
DTEND;VALUE=DATE:20251205
DTSTAMP:20260423T104649
CREATED:20251030T154222Z
LAST-MODIFIED:20251030T154222Z
UID:4087-1764806400-1764892799@dost-astrology.com
SUMMARY:Annapurnna Jayanti
DESCRIPTION:
URL:https://dost-astrology.com/evento/annapurnna-jayanti/
CATEGORIES:Ventanas de tiempo auspiciosas Védicas
END:VEVENT
BEGIN:VEVENT
DTSTART;VALUE=DATE:20251204
DTEND;VALUE=DATE:20251205
DTSTAMP:20260423T104649
CREATED:20251030T154251Z
LAST-MODIFIED:20251030T154251Z
UID:4089-1764806400-1764892799@dost-astrology.com
SUMMARY:Dattatreya Jayanti
DESCRIPTION:
URL:https://dost-astrology.com/evento/dattatreya-jayanti/
CATEGORIES:Ventanas de tiempo auspiciosas Védicas
END:VEVENT
BEGIN:VEVENT
DTSTART;VALUE=DATE:20251216
DTEND;VALUE=DATE:20251217
DTSTAMP:20260423T104649
CREATED:20251030T154510Z
LAST-MODIFIED:20251030T154510Z
UID:4099-1765843200-1765929599@dost-astrology.com
SUMMARY:Bhauma Pradosha
DESCRIPTION:
URL:https://dost-astrology.com/evento/bhauma-pradosha-2/
CATEGORIES:Ventanas de tiempo auspiciosas Védicas
END:VEVENT
BEGIN:VEVENT
DTSTART;VALUE=DATE:20251231
DTEND;VALUE=DATE:20260101
DTSTAMP:20260423T104649
CREATED:20251030T154736Z
LAST-MODIFIED:20251030T154736Z
UID:4109-1767139200-1767225599@dost-astrology.com
SUMMARY:Budha Pradosha Vrat
DESCRIPTION:
URL:https://dost-astrology.com/evento/budha-pradosha-vrat/
CATEGORIES:Ventanas de tiempo auspiciosas Védicas
END:VEVENT
END:VCALENDAR