BEGIN:VCALENDAR
VERSION:2.0
PRODID:-//Dost Astrology - ECPv6.15.11//NONSGML v1.0//EN
CALSCALE:GREGORIAN
METHOD:PUBLISH
X-WR-CALNAME:Dost Astrology
X-ORIGINAL-URL:https://dost-astrology.com
X-WR-CALDESC:Eventos para Dost Astrology
REFRESH-INTERVAL;VALUE=DURATION:PT1H
X-Robots-Tag:noindex
X-PUBLISHED-TTL:PT1H
BEGIN:VTIMEZONE
TZID:America/New_York
BEGIN:DAYLIGHT
TZOFFSETFROM:-0500
TZOFFSETTO:-0400
TZNAME:EDT
DTSTART:20240310T070000
END:DAYLIGHT
BEGIN:STANDARD
TZOFFSETFROM:-0400
TZOFFSETTO:-0500
TZNAME:EST
DTSTART:20241103T060000
END:STANDARD
BEGIN:DAYLIGHT
TZOFFSETFROM:-0500
TZOFFSETTO:-0400
TZNAME:EDT
DTSTART:20250309T070000
END:DAYLIGHT
BEGIN:STANDARD
TZOFFSETFROM:-0400
TZOFFSETTO:-0500
TZNAME:EST
DTSTART:20251102T060000
END:STANDARD
BEGIN:DAYLIGHT
TZOFFSETFROM:-0500
TZOFFSETTO:-0400
TZNAME:EDT
DTSTART:20260308T070000
END:DAYLIGHT
BEGIN:STANDARD
TZOFFSETFROM:-0400
TZOFFSETTO:-0500
TZNAME:EST
DTSTART:20261101T060000
END:STANDARD
END:VTIMEZONE
BEGIN:VEVENT
DTSTART;VALUE=DATE:20251102
DTEND;VALUE=DATE:20251103
DTSTAMP:20260423T120358
CREATED:20251029T211235Z
LAST-MODIFIED:20251029T211235Z
UID:4047-1762041600-1762127999@dost-astrology.com
SUMMARY:Tulasi Vivah
DESCRIPTION:
URL:https://dost-astrology.com/evento/tulasi-vivah/
CATEGORIES:Ventanas de tiempo auspiciosas Védicas
END:VEVENT
BEGIN:VEVENT
DTSTART;VALUE=DATE:20251102
DTEND;VALUE=DATE:20251103
DTSTAMP:20260423T120358
CREATED:20251029T211305Z
LAST-MODIFIED:20251029T211305Z
UID:4049-1762041600-1762127999@dost-astrology.com
SUMMARY:Ravi Pradosha
DESCRIPTION:
URL:https://dost-astrology.com/evento/ravi-pradosha/
CATEGORIES:Ventanas de tiempo auspiciosas Védicas
END:VEVENT
BEGIN:VEVENT
DTSTART;VALUE=DATE:20251104
DTEND;VALUE=DATE:20251105
DTSTAMP:20260423T120358
CREATED:20251029T211341Z
LAST-MODIFIED:20251029T211341Z
UID:4051-1762214400-1762300799@dost-astrology.com
SUMMARY:Dev Divali
DESCRIPTION:
URL:https://dost-astrology.com/evento/dev-divali/
CATEGORIES:Ventanas de tiempo auspiciosas Védicas
END:VEVENT
BEGIN:VEVENT
DTSTART;VALUE=DATE:20251111
DTEND;VALUE=DATE:20251112
DTSTAMP:20260423T120358
CREATED:20251029T211435Z
LAST-MODIFIED:20251029T211435Z
UID:4055-1762819200-1762905599@dost-astrology.com
SUMMARY:Kala Bhairava Jayanti
DESCRIPTION:
URL:https://dost-astrology.com/evento/kala-bhairava-jayanti/
CATEGORIES:Ventanas de tiempo auspiciosas Védicas
END:VEVENT
BEGIN:VEVENT
DTSTART;VALUE=DATE:20251117
DTEND;VALUE=DATE:20251118
DTSTAMP:20260423T120358
CREATED:20251029T211626Z
LAST-MODIFIED:20251029T211626Z
UID:4063-1763337600-1763423999@dost-astrology.com
SUMMARY:Soma Pradosha
DESCRIPTION:
URL:https://dost-astrology.com/evento/soma-pradosha/
CATEGORIES:Ventanas de tiempo auspiciosas Védicas
END:VEVENT
BEGIN:VEVENT
DTSTART;VALUE=DATE:20251117
DTEND;VALUE=DATE:20251118
DTSTAMP:20260423T120358
CREATED:20251029T211655Z
LAST-MODIFIED:20251029T211655Z
UID:4065-1763337600-1763423999@dost-astrology.com
SUMMARY:Shivaratri
DESCRIPTION:
URL:https://dost-astrology.com/evento/shivaratri/
CATEGORIES:Ventanas de tiempo auspiciosas Védicas
END:VEVENT
BEGIN:VEVENT
DTSTART;VALUE=DATE:20251117
DTEND;VALUE=DATE:20251118
DTSTAMP:20260423T120358
CREATED:20251030T154545Z
LAST-MODIFIED:20251030T154545Z
UID:4101-1763337600-1763423999@dost-astrology.com
SUMMARY:Shivaratri
DESCRIPTION:
URL:https://dost-astrology.com/evento/shivaratri-2/
CATEGORIES:Ventanas de tiempo auspiciosas Védicas
END:VEVENT
BEGIN:VEVENT
DTSTART;VALUE=DATE:20251125
DTEND;VALUE=DATE:20251126
DTSTAMP:20260423T120358
CREATED:20251029T211747Z
LAST-MODIFIED:20251029T211747Z
UID:4069-1764028800-1764115199@dost-astrology.com
SUMMARY:Vivaha Panchami
DESCRIPTION:
URL:https://dost-astrology.com/evento/vivaha-panchami/
CATEGORIES:Ventanas de tiempo auspiciosas Védicas
END:VEVENT
BEGIN:VEVENT
DTSTART;VALUE=DATE:20251130
DTEND;VALUE=DATE:20251201
DTSTAMP:20260423T120358
CREATED:20251029T211811Z
LAST-MODIFIED:20251029T211811Z
UID:4071-1764460800-1764547199@dost-astrology.com
SUMMARY:Gita Jayanti
DESCRIPTION:
URL:https://dost-astrology.com/evento/gita-jayanti/
CATEGORIES:Ventanas de tiempo auspiciosas Védicas
END:VEVENT
END:VCALENDAR